BEGIN:VCALENDAR
VERSION:2.0
PRODID:-//134.96.226.169//NONSGML kigkonsult.se iCalcreator 2.41.92//
CALSCALE:GREGORIAN
METHOD:PUBLISH
UID:64343733-6339-4664-a461-323066653362
X-WR-CALNAME:Mathematik-Vorkurs Calendar
X-WR-CALDESC:Termine der Vorlesung Mathematik-Vorkurs
X-WR-TIMEZONE:Europe/Berlin
BEGIN:VEVENT
UID:34386161-3862-4431-b165-663831343335
DTSTAMP:20260425T152135Z
DESCRIPTION:
DTSTART:20200928T070000Z
DTEND:20200928T083000Z
LOCATION:Zoom
SUMMARY:Vorlesung
END:VEVENT
BEGIN:VEVENT
UID:64393839-3065-4137-a634-383866313736
DTSTAMP:20260425T152135Z
DESCRIPTION:
DTSTART:20200928T083000Z
DTEND:20200928T100000Z
LOCATION:Discord
SUMMARY:Selbstlernphase
END:VEVENT
BEGIN:VEVENT
UID:39376232-6461-4137-a236-323163326465
DTSTAMP:20260425T152135Z
DESCRIPTION:
DTSTART:20200928T120000Z
DTEND:20200928T140000Z
LOCATION:Discord
SUMMARY:Tutorium
END:VEVENT
BEGIN:VEVENT
UID:30626436-3132-4231-b261-393435666439
DTSTAMP:20260425T152135Z
DESCRIPTION:
DTSTART:20200929T070000Z
DTEND:20200929T080000Z
LOCATION:Zoom
SUMMARY:Vorlesung
END:VEVENT
BEGIN:VEVENT
UID:31643963-3162-4838-b161-646632333434
DTSTAMP:20260425T152135Z
DESCRIPTION:
DTSTART:20200929T080000Z
DTEND:20200929T110000Z
LOCATION:Discord
SUMMARY:Selbstlernphase
END:VEVENT
BEGIN:VEVENT
UID:35353866-3064-4235-a435-613362613332
DTSTAMP:20260425T152135Z
DESCRIPTION:
DTSTART:20200929T120000Z
DTEND:20200929T140000Z
LOCATION:Discord
SUMMARY:Tutorium
END:VEVENT
BEGIN:VEVENT
UID:62326439-3163-4066-b736-353962353866
DTSTAMP:20260425T152135Z
DESCRIPTION:
DTSTART:20200930T070000Z
DTEND:20200930T080000Z
LOCATION:Zoom
SUMMARY:Vorlesung
END:VEVENT
BEGIN:VEVENT
UID:66333862-3031-4433-a365-363364386631
DTSTAMP:20260425T152135Z
DESCRIPTION:
DTSTART:20200930T080000Z
DTEND:20200930T110000Z
LOCATION:Discord
SUMMARY:Selbstlernphase
END:VEVENT
BEGIN:VEVENT
UID:32636235-3436-4563-a536-666266613639
DTSTAMP:20260425T152135Z
DESCRIPTION:
DTSTART:20200930T120000Z
DTEND:20200930T140000Z
LOCATION:Discord
SUMMARY:Tutorium
END:VEVENT
BEGIN:VEVENT
UID:36353664-3465-4365-b932-353037653938
DTSTAMP:20260425T152135Z
DESCRIPTION:
DTSTART:20201001T070000Z
DTEND:20201001T080000Z
LOCATION:Zoom
SUMMARY:Vorlesung
END:VEVENT
BEGIN:VEVENT
UID:37303361-3836-4765-b734-656532373530
DTSTAMP:20260425T152135Z
DESCRIPTION:
DTSTART:20201001T080000Z
DTEND:20201001T110000Z
LOCATION:Discord
SUMMARY:Selbstlernphase
END:VEVENT
BEGIN:VEVENT
UID:32316462-6236-4032-b066-376233363137
DTSTAMP:20260425T152135Z
DESCRIPTION:
DTSTART:20201001T120000Z
DTEND:20201001T140000Z
LOCATION:Discord
SUMMARY:Tutorium
END:VEVENT
BEGIN:VEVENT
UID:64353137-6537-4661-b633-376532643938
DTSTAMP:20260425T152135Z
DESCRIPTION:
DTSTART:20201001T170000Z
DTEND:20201001T210000Z
SUMMARY:Spieleabend
END:VEVENT
BEGIN:VEVENT
UID:32623735-3233-4265-b334-393138613537
DTSTAMP:20260425T152135Z
DESCRIPTION:
DTSTART:20201002T070000Z
DTEND:20201002T080000Z
LOCATION:Zoom
SUMMARY:Vorlesung
END:VEVENT
BEGIN:VEVENT
UID:66663734-3164-4335-b531-373434343866
DTSTAMP:20260425T152135Z
DESCRIPTION:
DTSTART:20201002T080000Z
DTEND:20201002T110000Z
LOCATION:Discord
SUMMARY:Selbstlernphase
END:VEVENT
BEGIN:VEVENT
UID:38383632-3465-4836-b864-613939356435
DTSTAMP:20260425T152135Z
DESCRIPTION:
DTSTART:20201002T120000Z
DTEND:20201002T140000Z
LOCATION:Discord
SUMMARY:Tutorium
END:VEVENT
BEGIN:VEVENT
UID:36336633-3731-4330-a262-306266313132
DTSTAMP:20260425T152135Z
DESCRIPTION:
DTSTART:20201005T070000Z
DTEND:20201005T080000Z
LOCATION:Zoom
SUMMARY:Vorlesung
END:VEVENT
BEGIN:VEVENT
UID:36376539-6633-4231-b339-633463356131
DTSTAMP:20260425T152135Z
DESCRIPTION:
DTSTART:20201005T080000Z
DTEND:20201005T110000Z
LOCATION:Discord
SUMMARY:Selbstlernphase
END:VEVENT
BEGIN:VEVENT
UID:30383063-3664-4438-a561-366436336637
DTSTAMP:20260425T152135Z
DESCRIPTION:
DTSTART:20201005T120000Z
DTEND:20201005T140000Z
LOCATION:Discord
SUMMARY:Tutorium
END:VEVENT
BEGIN:VEVENT
UID:65333837-3536-4366-a530-353538396433
DTSTAMP:20260425T152135Z
DESCRIPTION:
DTSTART:20201006T070000Z
DTEND:20201006T080000Z
LOCATION:Zoom
SUMMARY:Vorlesung
END:VEVENT
BEGIN:VEVENT
UID:38333431-3537-4935-b732-646332626139
DTSTAMP:20260425T152135Z
DESCRIPTION:
DTSTART:20201006T080000Z
DTEND:20201006T110000Z
LOCATION:Discord
SUMMARY:Selbstlernphase
END:VEVENT
BEGIN:VEVENT
UID:63306463-3530-4662-a333-633764666535
DTSTAMP:20260425T152135Z
DESCRIPTION:
DTSTART:20201006T120000Z
DTEND:20201006T140000Z
LOCATION:Discord
SUMMARY:Tutorium
END:VEVENT
BEGIN:VEVENT
UID:63393464-6162-4235-a364-623938643339
DTSTAMP:20260425T152135Z
DESCRIPTION:
DTSTART:20201007T070000Z
DTEND:20201007T080000Z
LOCATION:Zoom
SUMMARY:Vorlesung
END:VEVENT
BEGIN:VEVENT
UID:39653863-6633-4262-a461-363930653664
DTSTAMP:20260425T152135Z
DESCRIPTION:
DTSTART:20201007T080000Z
DTEND:20201007T110000Z
LOCATION:Discord
SUMMARY:Selbstlernphase
END:VEVENT
BEGIN:VEVENT
UID:62343261-6535-4533-b637-333330343438
DTSTAMP:20260425T152135Z
DESCRIPTION:
DTSTART:20201007T120000Z
DTEND:20201007T140000Z
LOCATION:Discord
SUMMARY:Tutorium
END:VEVENT
BEGIN:VEVENT
UID:64373864-3936-4334-b236-316537643564
DTSTAMP:20260425T152135Z
DESCRIPTION:
DTSTART:20201008T070000Z
DTEND:20201008T080000Z
LOCATION:Zoom
SUMMARY:Vorlesung
END:VEVENT
BEGIN:VEVENT
UID:39353861-3330-4838-b739-643734306235
DTSTAMP:20260425T152135Z
DESCRIPTION:
DTSTART:20201008T080000Z
DTEND:20201008T110000Z
LOCATION:Discord
SUMMARY:Selbstlernphase
END:VEVENT
BEGIN:VEVENT
UID:35346265-6434-4739-b539-393632376233
DTSTAMP:20260425T152135Z
DESCRIPTION:
DTSTART:20201008T120000Z
DTEND:20201008T140000Z
LOCATION:Discord
SUMMARY:Tutorium
END:VEVENT
BEGIN:VEVENT
UID:65393132-6439-4365-a430-333262326535
DTSTAMP:20260425T152135Z
DESCRIPTION:
DTSTART:20201008T143000Z
DTEND:20201008T180000Z
SUMMARY:Vorkurs Ralley
END:VEVENT
BEGIN:VEVENT
UID:36343733-3436-4562-b837-656430343932
DTSTAMP:20260425T152135Z
DESCRIPTION:
DTSTART:20201009T070000Z
DTEND:20201009T080000Z
LOCATION:Zoom
SUMMARY:Vorlesung
END:VEVENT
BEGIN:VEVENT
UID:62373933-3865-4466-b739-646463666263
DTSTAMP:20260425T152135Z
DESCRIPTION:
DTSTART:20201009T080000Z
DTEND:20201009T110000Z
LOCATION:Discord
SUMMARY:Selbstlernphase
END:VEVENT
BEGIN:VEVENT
UID:37336435-3763-4433-b430-643033313466
DTSTAMP:20260425T152135Z
DESCRIPTION:
DTSTART:20201009T120000Z
DTEND:20201009T140000Z
LOCATION:Discord
SUMMARY:Tutorium
END:VEVENT
BEGIN:VEVENT
UID:37356136-6638-4066-b664-323036383236
DTSTAMP:20260425T152135Z
DESCRIPTION:
DTSTART:20201012T070000Z
DTEND:20201012T080000Z
LOCATION:Zoom
SUMMARY:Vorlesung
END:VEVENT
BEGIN:VEVENT
UID:61363033-3434-4462-b861-363263613364
DTSTAMP:20260425T152135Z
DESCRIPTION:
DTSTART:20201012T080000Z
DTEND:20201012T110000Z
LOCATION:Discord
SUMMARY:Selbstlernphase
END:VEVENT
BEGIN:VEVENT
UID:38373465-3335-4735-a365-636631376332
DTSTAMP:20260425T152135Z
DESCRIPTION:
DTSTART:20201012T120000Z
DTEND:20201012T140000Z
LOCATION:Discord
SUMMARY:Tutorium
END:VEVENT
BEGIN:VEVENT
UID:31313966-3537-4165-b766-306166666538
DTSTAMP:20260425T152135Z
DESCRIPTION:
DTSTART:20201013T070000Z
DTEND:20201013T080000Z
LOCATION:Zoom
SUMMARY:Vorlesung
END:VEVENT
BEGIN:VEVENT
UID:63353034-3730-4037-a237-303164323335
DTSTAMP:20260425T152135Z
DESCRIPTION:
DTSTART:20201013T080000Z
DTEND:20201013T110000Z
LOCATION:Discord
SUMMARY:Selbstlernphase
END:VEVENT
BEGIN:VEVENT
UID:61393835-3130-4365-a138-663937396332
DTSTAMP:20260425T152135Z
DESCRIPTION:
DTSTART:20201013T120000Z
DTEND:20201013T140000Z
LOCATION:Discord
SUMMARY:Tutorium
END:VEVENT
BEGIN:VEVENT
UID:63373635-3434-4161-a232-653061653565
DTSTAMP:20260425T152135Z
DESCRIPTION:
DTSTART:20201014T070000Z
DTEND:20201014T080000Z
LOCATION:Zoom
SUMMARY:Vorlesung
END:VEVENT
BEGIN:VEVENT
UID:63636432-3230-4834-b336-386661626431
DTSTAMP:20260425T152135Z
DESCRIPTION:
DTSTART:20201014T080000Z
DTEND:20201014T110000Z
LOCATION:Discord
SUMMARY:Selbstlernphase
END:VEVENT
BEGIN:VEVENT
UID:32656339-3439-4233-a461-333639316366
DTSTAMP:20260425T152135Z
DESCRIPTION:
DTSTART:20201014T120000Z
DTEND:20201014T140000Z
LOCATION:Discord
SUMMARY:Tutorium
END:VEVENT
BEGIN:VEVENT
UID:37383735-3166-4930-b036-383730633539
DTSTAMP:20260425T152135Z
DESCRIPTION:
DTSTART:20201015T070000Z
DTEND:20201015T080000Z
LOCATION:Zoom
SUMMARY:Vorlesung
END:VEVENT
BEGIN:VEVENT
UID:38303434-3835-4530-b339-363432616535
DTSTAMP:20260425T152135Z
DESCRIPTION:
DTSTART:20201015T080000Z
DTEND:20201015T110000Z
LOCATION:Discord
SUMMARY:Selbstlernphase
END:VEVENT
BEGIN:VEVENT
UID:39396139-3932-4337-b866-336237366136
DTSTAMP:20260425T152135Z
DESCRIPTION:
DTSTART:20201015T120000Z
DTEND:20201015T140000Z
LOCATION:Discord
SUMMARY:Tutorium
END:VEVENT
BEGIN:VEVENT
UID:38646233-3261-4038-b838-356165636438
DTSTAMP:20260425T152135Z
DESCRIPTION:
DTSTART:20201015T170000Z
DTEND:20201015T210000Z
SUMMARY:Spieleabend
END:VEVENT
BEGIN:VEVENT
UID:39663335-3836-4638-b964-393930363635
DTSTAMP:20260425T152135Z
DESCRIPTION:
DTSTART:20201016T070000Z
DTEND:20201016T080000Z
LOCATION:Zoom
SUMMARY:Vorlesung
END:VEVENT
BEGIN:VEVENT
UID:30333266-6132-4638-b935-326631333539
DTSTAMP:20260425T152135Z
DESCRIPTION:
DTSTART:20201016T080000Z
DTEND:20201016T110000Z
LOCATION:Discord
SUMMARY:Selbstlernphase
END:VEVENT
BEGIN:VEVENT
UID:33303335-3463-4766-a331-363964313261
DTSTAMP:20260425T152135Z
DESCRIPTION:
DTSTART:20201016T120000Z
DTEND:20201016T140000Z
LOCATION:Discord
SUMMARY:Tutorium
END:VEVENT
BEGIN:VEVENT
UID:62373366-3234-4762-b234-633334663934
DTSTAMP:20260425T152135Z
DESCRIPTION:
DTSTART:20201019T070000Z
DTEND:20201019T080000Z
LOCATION:Zoom
SUMMARY:Vorlesung
END:VEVENT
BEGIN:VEVENT
UID:64333761-3863-4135-b834-366137643661
DTSTAMP:20260425T152135Z
DESCRIPTION:
DTSTART:20201019T080000Z
DTEND:20201019T110000Z
LOCATION:Discord
SUMMARY:Selbstlernphase
END:VEVENT
BEGIN:VEVENT
UID:31366438-3731-4432-b065-653537623736
DTSTAMP:20260425T152135Z
DESCRIPTION:
DTSTART:20201019T120000Z
DTEND:20201019T140000Z
LOCATION:Discord
SUMMARY:Tutorium
END:VEVENT
BEGIN:VEVENT
UID:63356539-3737-4465-b233-383832303063
DTSTAMP:20260425T152135Z
DESCRIPTION:
DTSTART:20201020T070000Z
DTEND:20201020T080000Z
LOCATION:Zoom
SUMMARY:Vorlesung
END:VEVENT
BEGIN:VEVENT
UID:32616539-3137-4639-b636-303062653932
DTSTAMP:20260425T152135Z
DESCRIPTION:
DTSTART:20201020T080000Z
DTEND:20201020T110000Z
LOCATION:Discord
SUMMARY:Selbstlernphase
END:VEVENT
BEGIN:VEVENT
UID:63353539-3164-4666-a262-343139613061
DTSTAMP:20260425T152135Z
DESCRIPTION:
DTSTART:20201020T120000Z
DTEND:20201020T140000Z
LOCATION:Discord
SUMMARY:Tutorium
END:VEVENT
BEGIN:VEVENT
UID:63333064-3331-4330-a264-653736303237
DTSTAMP:20260425T152135Z
DESCRIPTION:
DTSTART:20201021T070000Z
DTEND:20201021T080000Z
LOCATION:Zoom
SUMMARY:Vorlesung
END:VEVENT
BEGIN:VEVENT
UID:39396335-6235-4562-b536-313561613639
DTSTAMP:20260425T152135Z
DESCRIPTION:
DTSTART:20201021T080000Z
DTEND:20201021T110000Z
LOCATION:Discord
SUMMARY:Selbstlernphase
END:VEVENT
BEGIN:VEVENT
UID:39333030-3735-4733-a231-643966303861
DTSTAMP:20260425T152135Z
DESCRIPTION:
DTSTART:20201021T120000Z
DTEND:20201021T140000Z
LOCATION:Discord
SUMMARY:Tutorium
END:VEVENT
BEGIN:VEVENT
UID:38366539-3831-4138-b238-336139376264
DTSTAMP:20260425T152135Z
DESCRIPTION:
DTSTART:20201022T070000Z
DTEND:20201022T080000Z
LOCATION:Zoom
SUMMARY:Vorlesung
END:VEVENT
BEGIN:VEVENT
UID:34663764-6563-4438-a636-656435343233
DTSTAMP:20260425T152135Z
DESCRIPTION:
DTSTART:20201022T080000Z
DTEND:20201022T110000Z
LOCATION:Discord
SUMMARY:Selbstlernphase
END:VEVENT
BEGIN:VEVENT
UID:38656436-3133-4733-a539-313539356366
DTSTAMP:20260425T152135Z
DESCRIPTION:
DTSTART:20201022T120000Z
DTEND:20201022T140000Z
LOCATION:Discord
SUMMARY:Tutorium
END:VEVENT
BEGIN:VEVENT
UID:34316430-3231-4064-b431-396163663538
DTSTAMP:20260425T152135Z
DESCRIPTION:
DTSTART:20201022T170000Z
DTEND:20201022T200000Z
LOCATION:Discord
SUMMARY:Spieleabend
END:VEVENT
BEGIN:VEVENT
UID:30643464-3533-4231-a138-653230346238
DTSTAMP:20260425T152135Z
DESCRIPTION:
DTSTART:20201023T070000Z
DTEND:20201023T080000Z
LOCATION:Zoom
SUMMARY:Vorlesung
END:VEVENT
BEGIN:VEVENT
UID:31376663-6232-4330-b236-366266353535
DTSTAMP:20260425T152135Z
DESCRIPTION:
DTSTART:20201023T080000Z
DTEND:20201023T100000Z
LOCATION:Discord
SUMMARY:Selbstlernphase
END:VEVENT
END:VCALENDAR
