BEGIN:VCALENDAR
VERSION:2.0
PRODID:-//134.96.226.169//NONSGML kigkonsult.se iCalcreator 2.41.92//
CALSCALE:GREGORIAN
METHOD:PUBLISH
UID:30636535-3432-4733-b530-326562386631
X-WR-CALNAME:Mathematik-Vorkurs Calendar
X-WR-CALDESC:Termine der Vorlesung Mathematik-Vorkurs
X-WR-TIMEZONE:Europe/Berlin
BEGIN:VEVENT
UID:33613138-6466-4162-b363-323134633033
DTSTAMP:20260425T152141Z
DESCRIPTION:
DTSTART:20200928T070000Z
DTEND:20200928T083000Z
LOCATION:Zoom
SUMMARY:Ss20: Vorlesung
END:VEVENT
BEGIN:VEVENT
UID:62643335-3230-4433-a637-343365353966
DTSTAMP:20260425T152141Z
DESCRIPTION:
DTSTART:20200928T083000Z
DTEND:20200928T100000Z
LOCATION:Discord
SUMMARY:Ss20: Selbstlernphase
END:VEVENT
BEGIN:VEVENT
UID:39373832-3838-4637-b137-323130353363
DTSTAMP:20260425T152141Z
DESCRIPTION:
DTSTART:20200928T120000Z
DTEND:20200928T140000Z
LOCATION:Discord
SUMMARY:Ss20: Tutorium
END:VEVENT
BEGIN:VEVENT
UID:65373834-3934-4063-b639-316531326530
DTSTAMP:20260425T152141Z
DESCRIPTION:
DTSTART:20200929T070000Z
DTEND:20200929T080000Z
LOCATION:Zoom
SUMMARY:Ss20: Vorlesung
END:VEVENT
BEGIN:VEVENT
UID:62653038-3064-4834-b063-393639383930
DTSTAMP:20260425T152141Z
DESCRIPTION:
DTSTART:20200929T080000Z
DTEND:20200929T110000Z
LOCATION:Discord
SUMMARY:Ss20: Selbstlernphase
END:VEVENT
BEGIN:VEVENT
UID:33633635-3763-4734-a262-326565323938
DTSTAMP:20260425T152141Z
DESCRIPTION:
DTSTART:20200929T120000Z
DTEND:20200929T140000Z
LOCATION:Discord
SUMMARY:Ss20: Tutorium
END:VEVENT
BEGIN:VEVENT
UID:63646533-3633-4532-b963-313364353437
DTSTAMP:20260425T152141Z
DESCRIPTION:
DTSTART:20200930T070000Z
DTEND:20200930T080000Z
LOCATION:Zoom
SUMMARY:Ss20: Vorlesung
END:VEVENT
BEGIN:VEVENT
UID:34646462-3030-4234-a566-633864356662
DTSTAMP:20260425T152141Z
DESCRIPTION:
DTSTART:20200930T080000Z
DTEND:20200930T110000Z
LOCATION:Discord
SUMMARY:Ss20: Selbstlernphase
END:VEVENT
BEGIN:VEVENT
UID:31633965-6261-4534-a538-363130393065
DTSTAMP:20260425T152141Z
DESCRIPTION:
DTSTART:20200930T120000Z
DTEND:20200930T140000Z
LOCATION:Discord
SUMMARY:Ss20: Tutorium
END:VEVENT
BEGIN:VEVENT
UID:35663565-6163-4636-b333-346564353532
DTSTAMP:20260425T152141Z
DESCRIPTION:
DTSTART:20201001T070000Z
DTEND:20201001T080000Z
LOCATION:Zoom
SUMMARY:Ss20: Vorlesung
END:VEVENT
BEGIN:VEVENT
UID:38343663-3233-4535-a132-393965626461
DTSTAMP:20260425T152141Z
DESCRIPTION:
DTSTART:20201001T080000Z
DTEND:20201001T110000Z
LOCATION:Discord
SUMMARY:Ss20: Selbstlernphase
END:VEVENT
BEGIN:VEVENT
UID:39333066-3737-4362-b532-633166363635
DTSTAMP:20260425T152141Z
DESCRIPTION:
DTSTART:20201001T120000Z
DTEND:20201001T140000Z
LOCATION:Discord
SUMMARY:Ss20: Tutorium
END:VEVENT
BEGIN:VEVENT
UID:39663666-3136-4164-a332-636264303361
DTSTAMP:20260425T152141Z
DESCRIPTION:
DTSTART:20201001T170000Z
DTEND:20201001T210000Z
SUMMARY:Ss20: Spieleabend
END:VEVENT
BEGIN:VEVENT
UID:35343935-3362-4361-b236-643135663730
DTSTAMP:20260425T152141Z
DESCRIPTION:
DTSTART:20201002T070000Z
DTEND:20201002T080000Z
LOCATION:Zoom
SUMMARY:Ss20: Vorlesung
END:VEVENT
BEGIN:VEVENT
UID:37616466-6562-4662-a263-393662333265
DTSTAMP:20260425T152141Z
DESCRIPTION:
DTSTART:20201002T080000Z
DTEND:20201002T110000Z
LOCATION:Discord
SUMMARY:Ss20: Selbstlernphase
END:VEVENT
BEGIN:VEVENT
UID:31343436-3936-4666-b235-353361636333
DTSTAMP:20260425T152141Z
DESCRIPTION:
DTSTART:20201002T120000Z
DTEND:20201002T140000Z
LOCATION:Discord
SUMMARY:Ss20: Tutorium
END:VEVENT
BEGIN:VEVENT
UID:62633230-6635-4663-b136-616331356139
DTSTAMP:20260425T152141Z
DESCRIPTION:
DTSTART:20201005T070000Z
DTEND:20201005T080000Z
LOCATION:Zoom
SUMMARY:Ss20: Vorlesung
END:VEVENT
BEGIN:VEVENT
UID:63393733-6137-4562-b437-636362653766
DTSTAMP:20260425T152141Z
DESCRIPTION:
DTSTART:20201005T080000Z
DTEND:20201005T110000Z
LOCATION:Discord
SUMMARY:Ss20: Selbstlernphase
END:VEVENT
BEGIN:VEVENT
UID:34323234-3638-4663-b935-636564396163
DTSTAMP:20260425T152141Z
DESCRIPTION:
DTSTART:20201005T120000Z
DTEND:20201005T140000Z
LOCATION:Discord
SUMMARY:Ss20: Tutorium
END:VEVENT
BEGIN:VEVENT
UID:62636130-6538-4831-a438-663432633530
DTSTAMP:20260425T152141Z
DESCRIPTION:
DTSTART:20201006T070000Z
DTEND:20201006T080000Z
LOCATION:Zoom
SUMMARY:Ss20: Vorlesung
END:VEVENT
BEGIN:VEVENT
UID:61373033-6133-4539-b364-663530336563
DTSTAMP:20260425T152141Z
DESCRIPTION:
DTSTART:20201006T080000Z
DTEND:20201006T110000Z
LOCATION:Discord
SUMMARY:Ss20: Selbstlernphase
END:VEVENT
BEGIN:VEVENT
UID:61366537-6337-4739-b563-383439643838
DTSTAMP:20260425T152141Z
DESCRIPTION:
DTSTART:20201006T120000Z
DTEND:20201006T140000Z
LOCATION:Discord
SUMMARY:Ss20: Tutorium
END:VEVENT
BEGIN:VEVENT
UID:33353738-3663-4663-b135-316535333761
DTSTAMP:20260425T152141Z
DESCRIPTION:
DTSTART:20201007T070000Z
DTEND:20201007T080000Z
LOCATION:Zoom
SUMMARY:Ss20: Vorlesung
END:VEVENT
BEGIN:VEVENT
UID:34346661-3937-4735-a237-626334666136
DTSTAMP:20260425T152141Z
DESCRIPTION:
DTSTART:20201007T080000Z
DTEND:20201007T110000Z
LOCATION:Discord
SUMMARY:Ss20: Selbstlernphase
END:VEVENT
BEGIN:VEVENT
UID:33623831-3661-4930-a434-633961333161
DTSTAMP:20260425T152141Z
DESCRIPTION:
DTSTART:20201007T120000Z
DTEND:20201007T140000Z
LOCATION:Discord
SUMMARY:Ss20: Tutorium
END:VEVENT
BEGIN:VEVENT
UID:31383031-3763-4031-a631-303062613130
DTSTAMP:20260425T152141Z
DESCRIPTION:
DTSTART:20201008T070000Z
DTEND:20201008T080000Z
LOCATION:Zoom
SUMMARY:Ss20: Vorlesung
END:VEVENT
BEGIN:VEVENT
UID:61646566-3731-4530-a165-343130643534
DTSTAMP:20260425T152141Z
DESCRIPTION:
DTSTART:20201008T080000Z
DTEND:20201008T110000Z
LOCATION:Discord
SUMMARY:Ss20: Selbstlernphase
END:VEVENT
BEGIN:VEVENT
UID:38643565-6432-4264-b663-373062353633
DTSTAMP:20260425T152141Z
DESCRIPTION:
DTSTART:20201008T120000Z
DTEND:20201008T140000Z
LOCATION:Discord
SUMMARY:Ss20: Tutorium
END:VEVENT
BEGIN:VEVENT
UID:37303332-6634-4661-a238-393131343562
DTSTAMP:20260425T152141Z
DESCRIPTION:
DTSTART:20201008T143000Z
DTEND:20201008T180000Z
SUMMARY:Ss20: Vorkurs Ralley
END:VEVENT
BEGIN:VEVENT
UID:36653138-3435-4331-b261-353265383462
DTSTAMP:20260425T152141Z
DESCRIPTION:
DTSTART:20201009T070000Z
DTEND:20201009T080000Z
LOCATION:Zoom
SUMMARY:Ss20: Vorlesung
END:VEVENT
BEGIN:VEVENT
UID:32346664-6230-4039-a539-346639393136
DTSTAMP:20260425T152141Z
DESCRIPTION:
DTSTART:20201009T080000Z
DTEND:20201009T110000Z
LOCATION:Discord
SUMMARY:Ss20: Selbstlernphase
END:VEVENT
BEGIN:VEVENT
UID:30316564-3333-4739-a266-373866623036
DTSTAMP:20260425T152141Z
DESCRIPTION:
DTSTART:20201009T120000Z
DTEND:20201009T140000Z
LOCATION:Discord
SUMMARY:Ss20: Tutorium
END:VEVENT
BEGIN:VEVENT
UID:38356166-3336-4165-b538-313665656334
DTSTAMP:20260425T152141Z
DESCRIPTION:
DTSTART:20201012T070000Z
DTEND:20201012T080000Z
LOCATION:Zoom
SUMMARY:Ss20: Vorlesung
END:VEVENT
BEGIN:VEVENT
UID:33613265-3937-4261-a639-393837316535
DTSTAMP:20260425T152141Z
DESCRIPTION:
DTSTART:20201012T080000Z
DTEND:20201012T110000Z
LOCATION:Discord
SUMMARY:Ss20: Selbstlernphase
END:VEVENT
BEGIN:VEVENT
UID:63303832-3438-4133-b332-356335386339
DTSTAMP:20260425T152141Z
DESCRIPTION:
DTSTART:20201012T120000Z
DTEND:20201012T140000Z
LOCATION:Discord
SUMMARY:Ss20: Tutorium
END:VEVENT
BEGIN:VEVENT
UID:36623630-3032-4464-b966-636463326437
DTSTAMP:20260425T152141Z
DESCRIPTION:
DTSTART:20201013T070000Z
DTEND:20201013T080000Z
LOCATION:Zoom
SUMMARY:Ss20: Vorlesung
END:VEVENT
BEGIN:VEVENT
UID:38626532-3631-4664-b337-386231643633
DTSTAMP:20260425T152141Z
DESCRIPTION:
DTSTART:20201013T080000Z
DTEND:20201013T110000Z
LOCATION:Discord
SUMMARY:Ss20: Selbstlernphase
END:VEVENT
BEGIN:VEVENT
UID:62336365-3437-4233-b032-306164656133
DTSTAMP:20260425T152141Z
DESCRIPTION:
DTSTART:20201013T120000Z
DTEND:20201013T140000Z
LOCATION:Discord
SUMMARY:Ss20: Tutorium
END:VEVENT
BEGIN:VEVENT
UID:30373863-6636-4636-b537-376235396461
DTSTAMP:20260425T152141Z
DESCRIPTION:
DTSTART:20201014T070000Z
DTEND:20201014T080000Z
LOCATION:Zoom
SUMMARY:Ss20: Vorlesung
END:VEVENT
BEGIN:VEVENT
UID:61626239-3239-4865-b264-363830643837
DTSTAMP:20260425T152141Z
DESCRIPTION:
DTSTART:20201014T080000Z
DTEND:20201014T110000Z
LOCATION:Discord
SUMMARY:Ss20: Selbstlernphase
END:VEVENT
BEGIN:VEVENT
UID:64363963-3336-4235-a437-623437353663
DTSTAMP:20260425T152141Z
DESCRIPTION:
DTSTART:20201014T120000Z
DTEND:20201014T140000Z
LOCATION:Discord
SUMMARY:Ss20: Tutorium
END:VEVENT
BEGIN:VEVENT
UID:66653564-3931-4365-b131-373961393733
DTSTAMP:20260425T152141Z
DESCRIPTION:
DTSTART:20201015T070000Z
DTEND:20201015T080000Z
LOCATION:Zoom
SUMMARY:Ss20: Vorlesung
END:VEVENT
BEGIN:VEVENT
UID:34393431-6162-4562-a438-663561656534
DTSTAMP:20260425T152141Z
DESCRIPTION:
DTSTART:20201015T080000Z
DTEND:20201015T110000Z
LOCATION:Discord
SUMMARY:Ss20: Selbstlernphase
END:VEVENT
BEGIN:VEVENT
UID:38313038-6137-4730-b935-323061373164
DTSTAMP:20260425T152141Z
DESCRIPTION:
DTSTART:20201015T120000Z
DTEND:20201015T140000Z
LOCATION:Discord
SUMMARY:Ss20: Tutorium
END:VEVENT
BEGIN:VEVENT
UID:31383466-3930-4139-a163-313234336337
DTSTAMP:20260425T152141Z
DESCRIPTION:
DTSTART:20201015T170000Z
DTEND:20201015T210000Z
SUMMARY:Ss20: Spieleabend
END:VEVENT
BEGIN:VEVENT
UID:31663261-6536-4533-a239-303837366631
DTSTAMP:20260425T152141Z
DESCRIPTION:
DTSTART:20201016T070000Z
DTEND:20201016T080000Z
LOCATION:Zoom
SUMMARY:Ss20: Vorlesung
END:VEVENT
BEGIN:VEVENT
UID:31303232-6362-4632-b936-373536333563
DTSTAMP:20260425T152141Z
DESCRIPTION:
DTSTART:20201016T080000Z
DTEND:20201016T110000Z
LOCATION:Discord
SUMMARY:Ss20: Selbstlernphase
END:VEVENT
BEGIN:VEVENT
UID:33303033-6264-4566-a630-383766663832
DTSTAMP:20260425T152141Z
DESCRIPTION:
DTSTART:20201016T120000Z
DTEND:20201016T140000Z
LOCATION:Discord
SUMMARY:Ss20: Tutorium
END:VEVENT
BEGIN:VEVENT
UID:66613439-3461-4136-a138-653034396163
DTSTAMP:20260425T152141Z
DESCRIPTION:
DTSTART:20201019T070000Z
DTEND:20201019T080000Z
LOCATION:Zoom
SUMMARY:Ss20: Vorlesung
END:VEVENT
BEGIN:VEVENT
UID:31366637-6162-4531-b261-323961656363
DTSTAMP:20260425T152141Z
DESCRIPTION:
DTSTART:20201019T080000Z
DTEND:20201019T110000Z
LOCATION:Discord
SUMMARY:Ss20: Selbstlernphase
END:VEVENT
BEGIN:VEVENT
UID:62333161-6330-4361-b462-393236303364
DTSTAMP:20260425T152141Z
DESCRIPTION:
DTSTART:20201019T120000Z
DTEND:20201019T140000Z
LOCATION:Discord
SUMMARY:Ss20: Tutorium
END:VEVENT
BEGIN:VEVENT
UID:62636236-3233-4030-a661-643064636132
DTSTAMP:20260425T152141Z
DESCRIPTION:
DTSTART:20201020T070000Z
DTEND:20201020T080000Z
LOCATION:Zoom
SUMMARY:Ss20: Vorlesung
END:VEVENT
BEGIN:VEVENT
UID:38333539-6633-4133-b663-386635316163
DTSTAMP:20260425T152141Z
DESCRIPTION:
DTSTART:20201020T080000Z
DTEND:20201020T110000Z
LOCATION:Discord
SUMMARY:Ss20: Selbstlernphase
END:VEVENT
BEGIN:VEVENT
UID:30313138-6563-4538-b563-313031616363
DTSTAMP:20260425T152141Z
DESCRIPTION:
DTSTART:20201020T120000Z
DTEND:20201020T140000Z
LOCATION:Discord
SUMMARY:Ss20: Tutorium
END:VEVENT
BEGIN:VEVENT
UID:30356661-3365-4034-a564-333063396132
DTSTAMP:20260425T152141Z
DESCRIPTION:
DTSTART:20201021T070000Z
DTEND:20201021T080000Z
LOCATION:Zoom
SUMMARY:Ss20: Vorlesung
END:VEVENT
BEGIN:VEVENT
UID:62636664-3735-4038-b266-326437396532
DTSTAMP:20260425T152141Z
DESCRIPTION:
DTSTART:20201021T080000Z
DTEND:20201021T110000Z
LOCATION:Discord
SUMMARY:Ss20: Selbstlernphase
END:VEVENT
BEGIN:VEVENT
UID:31393565-6664-4436-b037-366435346235
DTSTAMP:20260425T152141Z
DESCRIPTION:
DTSTART:20201021T120000Z
DTEND:20201021T140000Z
LOCATION:Discord
SUMMARY:Ss20: Tutorium
END:VEVENT
BEGIN:VEVENT
UID:36643364-3039-4430-a261-666163623535
DTSTAMP:20260425T152141Z
DESCRIPTION:
DTSTART:20201022T070000Z
DTEND:20201022T080000Z
LOCATION:Zoom
SUMMARY:Ss20: Vorlesung
END:VEVENT
BEGIN:VEVENT
UID:36626162-3939-4066-a461-613937636361
DTSTAMP:20260425T152141Z
DESCRIPTION:
DTSTART:20201022T080000Z
DTEND:20201022T110000Z
LOCATION:Discord
SUMMARY:Ss20: Selbstlernphase
END:VEVENT
BEGIN:VEVENT
UID:36656463-3238-4032-b566-653465313033
DTSTAMP:20260425T152141Z
DESCRIPTION:
DTSTART:20201022T120000Z
DTEND:20201022T140000Z
LOCATION:Discord
SUMMARY:Ss20: Tutorium
END:VEVENT
BEGIN:VEVENT
UID:31633732-3161-4561-a436-633639373265
DTSTAMP:20260425T152141Z
DESCRIPTION:
DTSTART:20201022T170000Z
DTEND:20201022T200000Z
LOCATION:Discord
SUMMARY:Ss20: Spieleabend
END:VEVENT
BEGIN:VEVENT
UID:34306231-6432-4665-a238-623866313838
DTSTAMP:20260425T152141Z
DESCRIPTION:
DTSTART:20201023T070000Z
DTEND:20201023T080000Z
LOCATION:Zoom
SUMMARY:Ss20: Vorlesung
END:VEVENT
BEGIN:VEVENT
UID:34376235-6230-4832-a133-663533323266
DTSTAMP:20260425T152141Z
DESCRIPTION:
DTSTART:20201023T080000Z
DTEND:20201023T100000Z
LOCATION:Discord
SUMMARY:Ss20: Selbstlernphase
END:VEVENT
END:VCALENDAR
